BEGIN:VCALENDAR
VERSION:2.0
PRODID:-//eventon.com NONSGML v1.0//EN
CALSCALE:GREGORIAN
METHOD:PUBLISH
BEGIN:VEVENT
UID:69e5f764a7d8b
DTSTAMP:20260420T095236Z
DTSTART:20230317T150000Z
DTEND:20230317T210000Z
LOCATION:Ungdomshuset Odense Nørregade 60
SUMMARY:AIOdense – Spildag med VR
DESCRIPTION:Så det tid til en spildag. Denne gang finder vi de støvede ko
 nsoller frem (som ikke er støvet)\,  og hygger os med nogle gode multiplay
 er spil. Der vil også mulighed for at prøve VR\,  til dem som skulle have
  lyst til dette. Plan 16:00 Der åbnes 17:00 Der gås efter[..]\nhttps://an
 imeguiden.dk/events/aiodense-spildag-med-vr/
URL:https://animeguiden.dk/events/aiodense-spildag-med-vr/
END:VEVENT
END:VCALENDAR