BEGIN:VCALENDAR
VERSION:2.0
PRODID:-//eventon.com NONSGML v1.0//EN
CALSCALE:GREGORIAN
METHOD:PUBLISH
BEGIN:VEVENT
UID:69e528780d862
DTSTAMP:20260419T190944Z
DTSTART:20230808
DTEND:20230809
LOCATION:
SUMMARY:The First Slam Dunk
DESCRIPTION:Shohokus &#8220;speedster&#8221; og point guard\,  Ryota Miyagi
 \,  spiller altid med hjerne og lynets hast og løber i cirkler om sine mod
 standere\,  mens han foregiver at være rolig. Ryotas intersse for basketba
 ll stammer fra hans tre år ældre storebror\,  Sota\,  som var en berømt 
 lokal spiller fra en ung alder. På[..]\nhttps://animeguiden.dk/events/the-
 first-slam-dunk/
URL:https://animeguiden.dk/events/the-first-slam-dunk/
END:VEVENT
END:VCALENDAR