BEGIN:VCALENDAR
VERSION:2.0
PRODID:-//eventon.com NONSGML v1.0//EN
CALSCALE:GREGORIAN
METHOD:PUBLISH
BEGIN:VEVENT
UID:69e49f355359a
DTSTAMP:20260419T092405Z
DTSTART:20240311T150000Z
DTEND:20240311T170000Z
LOCATION:
SUMMARY:Manga Mandag
DESCRIPTION:Manga Mandag er en uformel social sammen-komst den anden mandag
  i måneden på Buens Bogcafé for alle manga\,  anime og japansk pop-kultu
 r interesserede. Det er relevant for alle\,  som ønsker at møde andre pas
 sionerede manga-elskere og som savner nogen at nørde sammen med.Drikkevare
 r købes&nbsp;i kaffebaren.\nhttps://animeguiden.dk/events/manga-mandag/
URL:https://animeguiden.dk/events/manga-mandag/
END:VEVENT
END:VCALENDAR