BEGIN:VCALENDAR
VERSION:2.0
PRODID:-//eventon.com NONSGML v1.0//EN
CALSCALE:GREGORIAN
METHOD:PUBLISH
BEGIN:VEVENT
UID:69e916afaa2f0
DTSTAMP:20260422T184255Z
DTSTART:20250905T140000Z
DTEND:20250905T200000Z
LOCATION:Ungdomshuset Odense Nørregade 60
SUMMARY:AIOdense – Anime og Ninjin
DESCRIPTION:Tidligere så vi altid anime\,  når der var con\,  så dem der
  ikke var ude af huset stadig havde noget at hygge sig med. Det genopliver 
 vi her på fredag. Der kan muligvis også være lidt live reportage fra med
 lemmer\,  der er til&nbsp;Ninjin-con&nbsp;hvis teknikken tillader det. Plan
  16:00 Der åbnes[..]\nhttps://animeguiden.dk/events/aiodense-anime-og-ninj
 in/
URL:https://animeguiden.dk/events/aiodense-anime-og-ninjin/
END:VEVENT
END:VCALENDAR