BEGIN:VCALENDAR
VERSION:2.0
PRODID:-//eventon.com NONSGML v1.0//EN
CALSCALE:GREGORIAN
METHOD:PUBLISH
BEGIN:VEVENT
UID:69e769dcc3124
DTSTAMP:20260421T121316Z
DTSTART:20260327T150000Z
DTEND:20260327T225900Z
LOCATION:Ungdomshuset Odense Nørregade 60
SUMMARY:AIOdense – Spildag
DESCRIPTION:Støv de gamle brætspil af\,  og kom og hyg med os\,  mens vi 
 afprøver\,  hvad folk har bragt med. Kort spil er selvfølgelig også opla
 gte.Konsolspil er også velkomne\,  men vi har kun én skærm så det skal 
 være fælles i så fald\,  og I må selv medbringe både konsol og[..]\nht
 tps://animeguiden.dk/events/aiodense-spildag-8/
URL:https://animeguiden.dk/events/aiodense-spildag-8/
END:VEVENT
END:VCALENDAR