BEGIN:VCALENDAR
VERSION:2.0
PRODID:-//eventon.com NONSGML v1.0//EN
CALSCALE:GREGORIAN
METHOD:PUBLISH
BEGIN:VEVENT
UID:69e5e34c2db7a
DTSTAMP:20260420T082652Z
DTSTART:20260522T140000Z
DTEND:20260522T215900Z
LOCATION:Ungdomshuset Odense Nørregade 60
SUMMARY:AIOdense – Spildag
DESCRIPTION:Støv de gamle brætspil af\,  og kom og hyg med os\,  mens vi 
 afprøver\,  hvad folk har bragt med. Kort spil er selvfølgelig også opla
 gte.Konsolspil er også velkomne\,  men vi har kun én skærm så det skal 
 være fælles i så fald\,  og I må selv medbringe både konsol og[..]\nht
 tps://animeguiden.dk/events/aiodense-spildag-9/
URL:https://animeguiden.dk/events/aiodense-spildag-9/
END:VEVENT
END:VCALENDAR