BEGIN:VCALENDAR
VERSION:2.0
PRODID:-//eventon.com NONSGML v1.0//EN
CALSCALE:GREGORIAN
METHOD:PUBLISH
BEGIN:VEVENT
UID:69ecb45c73542
DTSTAMP:20260425T123228Z
DTSTART:20260411T133000Z
DTEND:20260411T215900Z
LOCATION:Stigsborg skole Stigsborg Bygade 50
SUMMARY:Anime Kita - DIY onigiri
DESCRIPTION:Så åbnes tilmeldingen til næste event: DIY Onigiri! d. 11 Ap
 ril kl. 15.30Stigsborg Bygade 509400 Nørresundby2. sal op af udetrapperne 
 (https://tinyurl.com/3ctsbjpx) Tilmeldingen sker igennem denne formel: http
 s://forms.gle/YjzgeGQHwppiCKTv6 Der vil blive bragt lidt forberedte materia
 ler og fyld til at lave onigiri\,  også kaldet på go&#8217; gammel dansk:
  risboller. Vi vil se[..]\nhttps://animeguiden.dk/events/anime-kita-diy-oni
 giri-2/
URL:https://animeguiden.dk/events/anime-kita-diy-onigiri-2/
END:VEVENT
END:VCALENDAR