BEGIN:VCALENDAR
VERSION:2.0
PRODID:-//eventon.com NONSGML v1.0//EN
CALSCALE:GREGORIAN
METHOD:PUBLISH
BEGIN:VEVENT
UID:69eb5d9046493
DTSTAMP:20260424T120952Z
DTSTART:20260411T110000Z
DTEND:20260411T140000Z
LOCATION:
SUMMARY:Ninjin - Skattejagt
DESCRIPTION:[English version below] Nu er det snart påske\,  og derfor har
  vores maskot Kachi været rundt og gemt en masse små skatte! Derfor invit
 erer Foreningen Ninjin til skattejagt i Nyborg Frivilligcenter\,  hvor der 
 ikke skal findes påskeæg\,  men gulerødder! Det er d. 11.april fra klokk
 en 13:00 til klokken 16:00. Så[..]\nhttps://animeguiden.dk/events/ninjin-s
 kattejagt/
URL:https://animeguiden.dk/events/ninjin-skattejagt/
END:VEVENT
END:VCALENDAR