BEGIN:VCALENDAR
VERSION:2.0
PRODID:-//eventon.com NONSGML v1.0//EN
CALSCALE:GREGORIAN
METHOD:PUBLISH
BEGIN:VEVENT
UID:69ecb30688658
DTSTAMP:20260425T122646Z
DTSTART:20260409
DTEND:20260410
LOCATION:Gloria Biograf
SUMMARY:Wolf Children
DESCRIPTION:Gloria Biograf is screening Mamoru Hosoda&#8217;s WOLF CHILDREN
  with English subtitles on April 9\,  11 and 12! Check out the screenings h
 ere: https://gloria.dk/film/wolf-children/\nhttps://animeguiden.dk/events/w
 olf-children-2/
URL:https://animeguiden.dk/events/wolf-children-2/
END:VEVENT
END:VCALENDAR