BEGIN:VCALENDAR
VERSION:2.0
PRODID:-//eventon.com NONSGML v1.0//EN
CALSCALE:GREGORIAN
METHOD:PUBLISH
BEGIN:VEVENT
UID:69ecb2057e88c
DTSTAMP:20260425T122229Z
DTSTART:20260418T070000Z
DTEND:20260418T140000Z
LOCATION:
SUMMARY:Mikufans Picnic Meetup: Sakura Festival
DESCRIPTION:Dansk (english below)Mikufans laver deres traditionelle picnic 
 til Sakura festival. Alle er velkommen til at deltage og hygge (TAG GERNE T
 Ã†PPE MED) Vi har snacks og alt muligt\,  men det er bring selv ordning. SÃ
 ¥ hvis ingen bringer snacks er der ikke snacks at nyde\,  sÃ¥ hvis man har 
 noget[..]\nhttps://animeguiden.dk/events/mikufans-picnic-meetup-sakura-fest
 ival/
URL:https://animeguiden.dk/events/mikufans-picnic-meetup-sakura-festival/
END:VEVENT
END:VCALENDAR