BEGIN:VCALENDAR
VERSION:2.0
PRODID:-//eventon.com NONSGML v1.0//EN
CALSCALE:GREGORIAN
METHOD:PUBLISH
BEGIN:VEVENT
UID:69ecb3ca64392
DTSTAMP:20260425T123002Z
DTSTART:20260418
DTEND:20260419
LOCATION:
SUMMARY:Copenhagen Sakura Festival 2026
DESCRIPTION:The Copenhagen Sakura Festival is well known for featuring many
  Japanese cultural performances. Every year\,  you will experience both tra
 ditional and modern Japanese culture through the performances on stage\,  a
 midst the blossoming Sakura trees. Read more\nhttps://animeguiden.dk/events
 /copenhagen-sakura-festival-2026/
URL:https://animeguiden.dk/events/copenhagen-sakura-festival-2026/
END:VEVENT
END:VCALENDAR